Workbook

Sheet Обзор
B2: План и факт по подразделениям
B3: Сентябрь 2026. Подготовлено 15 октября 2026. Учебные данные.
B5: План | F5: Факт | J5: Отклонение, руб. | N5: Отклонение, %
B6: ='Данные'!B5 -> 500000 | F6: ='Данные'!C5 -> 505000 | J6: ='Данные'!D5 -> 5000 | N6: ='Данные'!E5 -> 0.01
B10: ='Данные'!A1 -> Подразделение | C10: ='Данные'!B1 -> План, руб. | D10: ='Данные'!C1 -> Факт, руб. | E10: ='Данные'!D1 -> Отклонение, руб. | F10: ='Данные'!E1 -> Отклонение, %
B11: ='Данные'!A2 -> Продажи | C11: ='Данные'!B2 -> 100000 | D11: ='Данные'!C2 -> 112000 | E11: ='Данные'!D2 -> 12000 | F11: ='Данные'!E2 -> 0.12
B12: ='Данные'!A3 -> Производство | C12: ='Данные'!B3 -> 250000 | D12: ='Данные'!C3 -> 235000 | E12: ='Данные'!D3 -> -15000 | F12: ='Данные'!E3 -> -0.06
B13: ='Данные'!A4 -> Администрация | C13: ='Данные'!B4 -> 150000 | D13: ='Данные'!C4 -> 158000 | E13: ='Данные'!D4 -> 8000 | F13: ='Данные'!E4 -> 0.053333333
B14: ='Данные'!A5 -> Итого | C14: ='Данные'!B5 -> 500000 | D14: ='Данные'!C5 -> 505000 | E14: ='Данные'!D5 -> 5000 | F14: ='Данные'!E5 -> 0.01

Sheet Данные
A1: Подразделение | B1: План, руб. | C1: Факт, руб. | D1: Отклонение, руб. | E1: Отклонение, %
A2: Продажи | B2: 100000 | C2: 112000 | D2: =C2-B2 -> 12000 | E2: =IF(B2=0,"",D2/B2) -> 0.12
A3: Производство | B3: 250000 | C3: 235000 | D3: =C3-B3 -> -15000 | E3: =IF(B3=0,"",D3/B3) -> -0.06
A4: Администрация | B4: 150000 | C4: 158000 | D4: =C4-B4 -> 8000 | E4: =IF(B4=0,"",D4/B4) -> 0.053333333
A5: Итого | B5: =SUM(B2:B4) -> 500000 | C5: =SUM(C2:C4) -> 505000 | D5: =SUM(D2:D4) -> 5000 | E5: =IF(B5=0,"",D5/B5) -> 0.01
A8: Учебные данные. План из Excel, факт из 1С.
A9: Период: сентябрь 2026. Дата подготовки: 15 октября 2026.
